BEGIN:VCALENDAR
VERSION:2.0
PRODID:-//wp-events-plugin.com//7.2.3.1//EN
BEGIN:VEVENT
UID:54@ratzfatz.at
DTSTART:20260501T130000Z
DTEND:20260501T140000Z
DTSTAMP:20260419T090311Z
URL:https://www.ratzfatz.at/events/ratzfatz-mai-konzert-in-der-kletterhall
 e/
SUMMARY:Mai-Konzert in der Kletterhalle
DESCRIPTION:RatzFatz Kinderkonzert in der Kletterhalle Telfs
ATTACH;FMTTYPE=image/jpeg:https://www.ratzfatz.at/wp-content/uploads/2026/
 04/b45dac48-d4fb-4eba-a2a3-588f484fb62e-scaled.jpeg
CATEGORIES:Konzert
LOCATION:Kletterhalle Telfs\, Franz-Rimml-Straße 4a\, Telfs\, Tirol\, 6410
 \, Österreich
X-APPLE-STRUCTURED-LOCATION;VALUE=URI;X-ADDRESS=Franz-Rimml-Straße 4a\, Te
 lfs\, Tirol\, 6410\, Österreich;X-APPLE-RADIUS=100;X-TITLE=Kletterhalle T
 elfs:geo:0,0
END:VEVENT
END:VCALENDAR