BEGIN:VCALENDAR
VERSION:2.0
PRODID:-//wp-events-plugin.com//7.2.3.1//EN
BEGIN:VEVENT
UID:21@ratzfatz.at
DTSTART:20240420T160000Z
DTEND:20240420T170000Z
DTSTAMP:20240409T100541Z
URL:https://www.ratzfatz.at/events/ratzfatz-konzert-zum-15-jahr-schulgarte
 n-jubilaeum/
SUMMARY:RatzFatz-Konzert: 15 Jahre Schulgarten Telfs
DESCRIPTION:https://www.oeticket.com/event/ratz-fatz-rathaussaal-telfs-1840
 0812/?affiliate=B38
CATEGORIES:Konzert
LOCATION:Rathaussaal Telfs\, Eduard-Wallnöfer-Platz 5\, Telfs\, Österreic
 h\, 6410\, Tirol\, Österreich
X-APPLE-STRUCTURED-LOCATION;VALUE=URI;X-ADDRESS=Eduard-Wallnöfer-Platz 5\,
  Telfs\, Österreich\, 6410\, Tirol\, Österreich;X-APPLE-RADIUS=100;X-TIT
 LE=Rathaussaal Telfs:geo:0,0
END:VEVENT
END:VCALENDAR