BEGIN:VCALENDAR
VERSION:2.0
PRODID:-//wp-events-plugin.com//7.2.3.1//EN
BEGIN:VEVENT
UID:26@ratzfatz.at
DTSTART:20240426T170000Z
DTEND:20240426T174500Z
DTSTAMP:20240409T100318Z
URL:https://www.ratzfatz.at/events/ratzfatz-konzert-im-rahmen-des-75-jahre
 -sos-kinderdorf-strassenfests-in-wilten/
SUMMARY:RatzFatz Konzert im Rahmen des 75 JAHRE SOS-KINDERDORF Strassenfest
 s in Wilten
DESCRIPTION:\n\n&nbsp\;\n\nhttps://www.sos-kinderdorf.at/aktuelles/75jahre/
 familien-strassenfest\n\nhttps://www.facebook.com/events/1582458619262904/
 ?acontext=%7B%22event_action_history%22%3A[]%7D\n\n&nbsp\;
CATEGORIES:Konzert
END:VEVENT
END:VCALENDAR