BEGIN:VCALENDAR
VERSION:2.0
PRODID:-//wp-events-plugin.com//7.2.3.1//EN
BEGIN:VEVENT
UID:29@ratzfatz.at
DTSTART:20240803T153000Z
DTEND:20240803T163000Z
DTSTAMP:20240802T070539Z
URL:https://www.ratzfatz.at/events/ratzfatz-konzert-beim-familienfest-in-m
 atrei-am-brenner/
SUMMARY:RatzFatz Konzert beim Familienfest in Matrei am Brenner
DESCRIPTION:
CATEGORIES:Konzert
LOCATION:Musikpavillon Matrei am Brenner\, Matrei am Brenner 20/2\, Matrei 
 am Brenner\, Österreich\, 6143 \, Triol\, Österreich
X-APPLE-STRUCTURED-LOCATION;VALUE=URI;X-ADDRESS=Matrei am Brenner 20/2\, Ma
 trei am Brenner\, Österreich\, 6143 \, Triol\, Österreich;X-APPLE-RADIUS
 =100;X-TITLE=Musikpavillon Matrei am Brenner:geo:0,0
END:VEVENT
END:VCALENDAR