BEGIN:VCALENDAR
VERSION:2.0
PRODID:-//wp-events-plugin.com//7.2.3.1//EN
BEGIN:VEVENT
UID:30@ratzfatz.at
DTSTART:20240809T150000Z
DTEND:20240809T160000Z
DTSTAMP:20240809T062341Z
URL:https://www.ratzfatz.at/events/ratzfatz-im-inntalcenter/
SUMMARY:RatzFatz im Inntalcenter Telfs
DESCRIPTION:Hits mit Witz und Grips\n\nEintritt frei
CATEGORIES:Konzert
LOCATION:Inntalcenter Telfs\, Weißenbachgasse 9\, Telfs\, Östrreich\, 641
 0\, Triol\, Österreich
X-APPLE-STRUCTURED-LOCATION;VALUE=URI;X-ADDRESS=Weißenbachgasse 9\, Telfs\
 , Östrreich\, 6410\, Triol\, Österreich;X-APPLE-RADIUS=100;X-TITLE=Innta
 lcenter Telfs:geo:0,0
END:VEVENT
END:VCALENDAR