BEGIN:VCALENDAR
VERSION:2.0
PRODID:-//wp-events-plugin.com//7.2.3.1//EN
BEGIN:VEVENT
UID:28@ratzfatz.at
DTSTART:20240804T160000Z
DTEND:20240804T170000Z
DTSTAMP:20240617T142512Z
URL:https://www.ratzfatz.at/events/ratzfatz-beim-stummer-schrei-im-zillert
 al/
SUMMARY:RatzFatz beim Stummer Schrei im Zillertal
DESCRIPTION:
CATEGORIES:Konzert
LOCATION:Dorfbäckstadl\, Dorf 8\, Stumm\, Österreich\, 6275 \, Triol\, Ö
 sterreich
X-APPLE-STRUCTURED-LOCATION;VALUE=URI;X-ADDRESS=Dorf 8\, Stumm\, Österreic
 h\, 6275 \, Triol\, Österreich;X-APPLE-RADIUS=100;X-TITLE=Dorfbäckstadl:
 geo:0,0
END:VEVENT
END:VCALENDAR