BEGIN:VCALENDAR
VERSION:2.0
PRODID:-//wp-events-plugin.com//7.2.3.1//EN
BEGIN:VEVENT
UID:27@ratzfatz.at
DTSTART:20240629T180000Z
DTEND:20240629T190000Z
DTSTAMP:20240617T141902Z
URL:https://www.ratzfatz.at/events/ratzfatz-beim-hungerburg-stadtteilfest-
 im-haus-der-kinderfreunde/
SUMMARY:RatzFatz beim Hungerburg Stadtteilfest im  Haus der Kinderfreunde
DESCRIPTION:
CATEGORIES:Konzert
END:VEVENT
END:VCALENDAR