BEGIN:VCALENDAR
VERSION:2.0
PRODID:-//wp-events-plugin.com//7.2.3.1//EN
BEGIN:VEVENT
UID:20@ratzfatz.at
DTSTART:20240601T000000Z
DTEND:20240601T000000Z
DTSTAMP:20240215T131335Z
URL:https://www.ratzfatz.at/events/ratzfatz-baend-konzert-beim-mini-pictur
 -on-festival-im-burgenland/
SUMMARY:RatzFatz Bänd Konzert beim Mini Picture on Festival im Burgenland
DESCRIPTION:Die Uhr Zeit wird noch bekannt gegeben.
CATEGORIES:Konzert
LOCATION:Festivalgelände Bildein\, Florianigasse 1\, Bildein\, 7521 \, Bur
 genland\, Österreich
X-APPLE-STRUCTURED-LOCATION;VALUE=URI;X-ADDRESS=Florianigasse 1\, Bildein\,
  7521 \, Burgenland\, Österreich;X-APPLE-RADIUS=100;X-TITLE=Festivalgelä
 nde Bildein:geo:0,0
END:VEVENT
END:VCALENDAR